BEGIN:VCALENDAR
VERSION:2.0
PRODID:-//Redlands Republican Women&#039;s Club - ECPv6.15.20//NONSGML v1.0//EN
CALSCALE:GREGORIAN
METHOD:PUBLISH
X-WR-CALNAME:Redlands Republican Women&#039;s Club
X-ORIGINAL-URL:https://redlandsrwc.org
X-WR-CALDESC:Events for Redlands Republican Women&#039;s Club
REFRESH-INTERVAL;VALUE=DURATION:PT1H
X-Robots-Tag:noindex
X-PUBLISHED-TTL:PT1H
BEGIN:VTIMEZONE
TZID:UTC
BEGIN:STANDARD
TZOFFSETFROM:+0000
TZOFFSETTO:+0000
TZNAME:UTC
DTSTART:20230101T000000
END:STANDARD
END:VTIMEZONE
BEGIN:VTIMEZONE
TZID:America/Los_Angeles
BEGIN:DAYLIGHT
TZOFFSETFROM:-0800
TZOFFSETTO:-0700
TZNAME:PDT
DTSTART:20230312T100000
END:DAYLIGHT
BEGIN:STANDARD
TZOFFSETFROM:-0700
TZOFFSETTO:-0800
TZNAME:PST
DTSTART:20231105T090000
END:STANDARD
BEGIN:DAYLIGHT
TZOFFSETFROM:-0800
TZOFFSETTO:-0700
TZNAME:PDT
DTSTART:20240310T100000
END:DAYLIGHT
BEGIN:STANDARD
TZOFFSETFROM:-0700
TZOFFSETTO:-0800
TZNAME:PST
DTSTART:20241103T090000
END:STANDARD
BEGIN:DAYLIGHT
TZOFFSETFROM:-0800
TZOFFSETTO:-0700
TZNAME:PDT
DTSTART:20250309T100000
END:DAYLIGHT
BEGIN:STANDARD
TZOFFSETFROM:-0700
TZOFFSETTO:-0800
TZNAME:PST
DTSTART:20251102T090000
END:STANDARD
END:VTIMEZONE
BEGIN:VEVENT
DTSTART;TZID=UTC:20250221T110000
DTEND;TZID=UTC:20250221T130000
DTSTAMP:20260421T033008
CREATED:20250207T030448Z
LAST-MODIFIED:20250207T033315Z
UID:4113-1740135600-1740142800@redlandsrwc.org
SUMMARY:General Meeting and Luncheon
DESCRIPTION:Meetings are on the 3rd Friday of the Month (except in July and August). \nAttend our next General Meeting!\nFriday\, February 21\, 2025 – – Luncheon\nFor more information visit Monthly Meetings. \n 
URL:https://redlandsrwc.org/event/general-meeting-and-luncheon/
END:VEVENT
BEGIN:VEVENT
DTSTART;TZID=UTC:20250117T110000
DTEND;TZID=UTC:20250117T130000
DTSTAMP:20260421T033008
CREATED:20250107T225016Z
LAST-MODIFIED:20250107T225016Z
UID:4104-1737111600-1737118800@redlandsrwc.org
SUMMARY:General Meeting\, Friday\, January 17\, 2025
DESCRIPTION:Arrive at 11 AM for social time.\nBuffet luncheon opens at 11:30 AM. \nSpeaker: Deborah Pauly\nCost: $30. Reserve by January 13th.\nCancellations must be made by January 15th. \nTo make your reservation\, click the website link below.
URL:https://redlandsrwc.org/event/general-meeting-friday-january-17-2025/
LOCATION:Mill Creek Cattle Company\, 1874 Mentone Blvd\, Mentone\, CA\, 92359\, United States
CATEGORIES:Monthly Membership Meetings
END:VEVENT
BEGIN:VEVENT
DTSTART;TZID=UTC:20241220T110000
DTEND;TZID=UTC:20241220T130000
DTSTAMP:20260421T033008
CREATED:20241207T234123Z
LAST-MODIFIED:20241207T234123Z
UID:4081-1734692400-1734699600@redlandsrwc.org
SUMMARY:General Meeting\, Friday\, December 20\, 2024
DESCRIPTION:Arrive at 11 AM for social time.\nBuffet luncheon opens at 11:30 AM. \nSpeaker: Dianna Lawson – Founder of Mansion Memories\nCost: $30. Reserve by Friday December 13th.\nCancellations must be made by Monday\, December 16th. \nTo make your reservation\, click the website link below.
URL:https://redlandsrwc.org/event/general-meeting-friday-december-20-2024/
LOCATION:Mill Creek Cattle Company\, 1874 Mentone Blvd\, Mentone\, CA\, 92359\, United States
END:VEVENT
BEGIN:VEVENT
DTSTART;TZID=America/Los_Angeles:20241115T113000
DTEND;TZID=America/Los_Angeles:20241115T130000
DTSTAMP:20260421T033008
CREATED:20241109T221424Z
LAST-MODIFIED:20241109T221424Z
UID:4052-1731670200-1731675600@redlandsrwc.org
SUMMARY:November General Meeting and Luncheon
DESCRIPTION:Our Speaker will be Mike Morrell\, Former Member of the California State Senate \nTo register online\, click here. or \ncall Laurie at 951-768-9615 \nLocation (Redlands area) will be revealed on your reservation receipt or by Laurie. \n11:30 Registration\n11:45 Meeting Start\n1 PM Ending
URL:https://redlandsrwc.org/event/november-general-meeting-and-luncheon/
END:VEVENT
BEGIN:VEVENT
DTSTART;TZID=UTC:20241018T113000
DTEND;TZID=UTC:20241018T130000
DTSTAMP:20260421T033008
CREATED:20241011T161217Z
LAST-MODIFIED:20241011T161217Z
UID:4045-1729251000-1729256400@redlandsrwc.org
SUMMARY:Friday\, October 18\, 2024 General Meeting
DESCRIPTION:11:30 check-in\, 11:45 meeting starts. 1 p.m. ending\n(Location details shared upon reservation.) \nFor more information visit Monthly Meeting \nReserve online by clicking here. \nOr call Laurie at 909-792-2501
URL:https://redlandsrwc.org/event/friday-october-18-2024-general-meeting/
END:VEVENT
BEGIN:VEVENT
DTSTART;TZID=UTC:20240920T113000
DTEND;TZID=UTC:20240920T133000
DTSTAMP:20260421T033008
CREATED:20240909T224117Z
LAST-MODIFIED:20240909T235411Z
UID:4003-1726831800-1726839000@redlandsrwc.org
SUMMARY:General Meeting\, Friday\, September 20\, 2024
DESCRIPTION:Power in Action: Protecting and Banking Your Vote \nGuest Speakers:  \nKrista Pittman\, Deputy Executive Director & Political Director of the California Republican Party. \nJoseph Montalvo\, Election Integrity Director for the San Bernardino Republican Party \nJesus Cisneros\, candidate for Redlands City Council \n11:30 check-in\, 11:45 meeting starts. 1:30 p.m. ending\nLunch $30 Please use our new reservation tool to reserve your seat now.\nReserve Now by Clicking. \n(Location details shared on your reservation confirmation email.)
URL:https://redlandsrwc.org/event/general-meeting-friday-september-20-2024/
END:VEVENT
END:VCALENDAR