BEGIN:VCALENDAR
VERSION:2.0
PRODID:-//Redlands Republican Women&#039;s Club - ECPv6.15.20//NONSGML v1.0//EN
CALSCALE:GREGORIAN
METHOD:PUBLISH
X-ORIGINAL-URL:https://redlandsrwc.org
X-WR-CALDESC:Events for Redlands Republican Women&#039;s Club
REFRESH-INTERVAL;VALUE=DURATION:PT1H
X-Robots-Tag:noindex
X-PUBLISHED-TTL:PT1H
BEGIN:VTIMEZONE
TZID:UTC
BEGIN:STANDARD
TZOFFSETFROM:+0000
TZOFFSETTO:+0000
TZNAME:UTC
DTSTART:20240101T000000
END:STANDARD
END:VTIMEZONE
BEGIN:VTIMEZONE
TZID:Atlantic/Azores
BEGIN:DAYLIGHT
TZOFFSETFROM:-0100
TZOFFSETTO:+0000
TZNAME:+00
DTSTART:20250330T010000
END:DAYLIGHT
BEGIN:STANDARD
TZOFFSETFROM:+0000
TZOFFSETTO:-0100
TZNAME:-01
DTSTART:20251026T010000
END:STANDARD
BEGIN:DAYLIGHT
TZOFFSETFROM:-0100
TZOFFSETTO:+0000
TZNAME:+00
DTSTART:20260329T010000
END:DAYLIGHT
BEGIN:STANDARD
TZOFFSETFROM:+0000
TZOFFSETTO:-0100
TZNAME:-01
DTSTART:20261025T010000
END:STANDARD
BEGIN:DAYLIGHT
TZOFFSETFROM:-0100
TZOFFSETTO:+0000
TZNAME:+00
DTSTART:20270328T010000
END:DAYLIGHT
BEGIN:STANDARD
TZOFFSETFROM:+0000
TZOFFSETTO:-0100
TZNAME:-01
DTSTART:20271031T010000
END:STANDARD
END:VTIMEZONE
BEGIN:VEVENT
DTSTART;TZID=UTC:20251017T113000
DTEND;TZID=UTC:20251017T130000
DTSTAMP:20260421T033321
CREATED:20251001T003835Z
LAST-MODIFIED:20251001T003835Z
UID:4188-1760700600-1760706000@redlandsrwc.org
SUMMARY:October 17th General Meeting
DESCRIPTION:Reserve by October 10th  by going to https://rrwc.mycheddarup.com \nFor details\, visit the Meetings page.
URL:https://redlandsrwc.org/event/october-17th-general-meeting/
END:VEVENT
BEGIN:VEVENT
DTSTART;TZID=UTC:20251121T110000
DTEND;TZID=UTC:20251121T130000
DTSTAMP:20260421T033321
CREATED:20251103T185818Z
LAST-MODIFIED:20251103T192809Z
UID:4213-1763722800-1763730000@redlandsrwc.org
SUMMARY:Friday\, November 21\, 2025 General Meeting
DESCRIPTION:For details\, visit Monthly Meeting \nTo reserve\, go to https://rrwc.mycheddarup.com .
URL:https://redlandsrwc.org/event/friday-november-21-2025-general-meeting/
END:VEVENT
BEGIN:VEVENT
DTSTART;TZID=UTC:20251219T113000
DTEND;TZID=UTC:20251219T130000
DTSTAMP:20260421T033321
CREATED:20251210T183405Z
LAST-MODIFIED:20251210T183405Z
UID:4228-1766143800-1766149200@redlandsrwc.org
SUMMARY:Friday\, December 19\, 2025 - General Meeting
DESCRIPTION:For details\, visit Monthly Meeting \nTo reserve\, go to https://rrwc.mycheddarup.com .
URL:https://redlandsrwc.org/event/friday-december-19-2025-general-meeting/
LOCATION:Mill Creek Cattle Company\, 1874 Mentone Blvd\, Mentone\, CA\, 92359\, United States
END:VEVENT
BEGIN:VEVENT
DTSTART;TZID=Atlantic/Azores:20260116T113000
DTEND;TZID=Atlantic/Azores:20260116T130000
DTSTAMP:20260421T033321
CREATED:20251220T190709Z
LAST-MODIFIED:20251220T190709Z
UID:4231-1768563000-1768568400@redlandsrwc.org
SUMMARY:General Meetings\, Friday\, January 16\, 2026
DESCRIPTION:
URL:https://redlandsrwc.org/event/general-meetings-friday-january-16-2026/
LOCATION:Mill Creek Cattle Company\, 1874 Mentone Blvd\, Mentone\, CA\, 92359\, United States
END:VEVENT
BEGIN:VEVENT
DTSTART;TZID=UTC:20260220T113000
DTEND;TZID=UTC:20260220T130000
DTSTAMP:20260421T033321
CREATED:20260205T044107Z
LAST-MODIFIED:20260205T044107Z
UID:4240-1771587000-1771592400@redlandsrwc.org
SUMMARY:General Meeting\, February 20\, 2026
DESCRIPTION:For Online reservations\, visit https://rrwc.mycheddarup.com.
URL:https://redlandsrwc.org/event/general-meeting-february-20-2026/
LOCATION:Mill Creek Cattle Company\, 1874 Mentone Blvd\, Mentone\, CA\, 92359\, United States
END:VEVENT
BEGIN:VEVENT
DTSTART;TZID=UTC:20260320T110000
DTEND;TZID=UTC:20260320T133000
DTSTAMP:20260421T033321
CREATED:20260309T235402Z
LAST-MODIFIED:20260309T235402Z
UID:4248-1774004400-1774013400@redlandsrwc.org
SUMMARY:General Meeting\, March 20th 2026
DESCRIPTION:Lunch and Program \nSpeaker: Don Wagner\, Rep. candidate for Secretary of State\nBorn in Pittsburgh\, Donald P. Wagner moved to California at age 12. He met his wife\,\nMegan\, in high school. Both attended UCLA\, where Don earned his BA\, followed by a Juris\nDoctor from the University of California College of the Law\, San Francisco. Growing up\nduring the Reagan era shaped his belief in liberty. \nFor more details\, visit our Meetings page.
URL:https://redlandsrwc.org/event/general-meeting-march-20th-2026/
END:VEVENT
BEGIN:VEVENT
DTSTART;TZID=UTC:20260417T110000
DTEND;TZID=UTC:20260417T130000
DTSTAMP:20260421T033321
CREATED:20260406T232053Z
LAST-MODIFIED:20260406T232053Z
UID:4257-1776423600-1776430800@redlandsrwc.org
SUMMARY:General Meeting April 17\, 2026
DESCRIPTION:Speaker: Jason Anderson\, San Bernardino District Attorney \nTo register\, visit https://rrwc.mycheddarup.com/
URL:https://redlandsrwc.org/event/general-meeting-april-17-2026/
LOCATION:Mill Creek Cattle Company\, 1874 Mentone Blvd\, Mentone\, CA\, 92359\, United States
END:VEVENT
END:VCALENDAR