BEGIN:VCALENDAR
VERSION:2.0
PRODID:-//Redlands Republican Women&#039;s Club - ECPv6.15.20//NONSGML v1.0//EN
CALSCALE:GREGORIAN
METHOD:PUBLISH
X-ORIGINAL-URL:https://redlandsrwc.org
X-WR-CALDESC:Events for Redlands Republican Women&#039;s Club
REFRESH-INTERVAL;VALUE=DURATION:PT1H
X-Robots-Tag:noindex
X-PUBLISHED-TTL:PT1H
BEGIN:VTIMEZONE
TZID:UTC
BEGIN:STANDARD
TZOFFSETFROM:+0000
TZOFFSETTO:+0000
TZNAME:UTC
DTSTART:20250101T000000
END:STANDARD
END:VTIMEZONE
BEGIN:VEVENT
DTSTART;TZID=UTC:20260320T110000
DTEND;TZID=UTC:20260320T133000
DTSTAMP:20260420T171632
CREATED:20260309T235402Z
LAST-MODIFIED:20260309T235402Z
UID:4248-1774004400-1774013400@redlandsrwc.org
SUMMARY:General Meeting\, March 20th 2026
DESCRIPTION:Lunch and Program \nSpeaker: Don Wagner\, Rep. candidate for Secretary of State\nBorn in Pittsburgh\, Donald P. Wagner moved to California at age 12. He met his wife\,\nMegan\, in high school. Both attended UCLA\, where Don earned his BA\, followed by a Juris\nDoctor from the University of California College of the Law\, San Francisco. Growing up\nduring the Reagan era shaped his belief in liberty. \nFor more details\, visit our Meetings page.
URL:https://redlandsrwc.org/event/general-meeting-march-20th-2026/
LOCATION:CA
END:VEVENT
END:VCALENDAR